BEGIN:VCALENDAR
VERSION:2.0
PRODID:-//Salford Priors Parish Council//Meeting Calendar//EN
CALSCALE:GREGORIAN
METHOD:PUBLISH
BEGIN:VEVENT
UID:70646-20200318@salfordpriors.gov.uk
DTSTAMP:20260423T090755Z
DTSTART;VALUE=DATE:20200318
DTEND;VALUE=DATE:20200319
SUMMARY:Council Meeting &#8211\\; 18th March 2020
DESCRIPTION:Full Council Meeting\nView details: https://salfordpriors.gov.uk/meetings/council-meeting-18th-march-2020/
URL:https://salfordpriors.gov.uk/meetings/council-meeting-18th-march-2020/
END:VEVENT
END:VCALENDAR
