BEGIN:VCALENDAR
VERSION:2.0
PRODID:-//Salford Priors Parish Council//Meeting Calendar//EN
CALSCALE:GREGORIAN
METHOD:PUBLISH
BEGIN:VEVENT
UID:70648-20200520@salfordpriors.gov.uk
DTSTAMP:20260421T083011Z
DTSTART;VALUE=DATE:20200520
DTEND;VALUE=DATE:20200521
SUMMARY:Council Meeting &#8211\\; 20th May 2020
DESCRIPTION:Full Council Meeting\nView details: https://salfordpriors.gov.uk/meetings/council-meeting-20th-may-2020/
URL:https://salfordpriors.gov.uk/meetings/council-meeting-20th-may-2020/
END:VEVENT
END:VCALENDAR
