BEGIN:VCALENDAR
VERSION:2.0
PRODID:-//Salford Priors Parish Council//Meeting Calendar//EN
CALSCALE:GREGORIAN
METHOD:PUBLISH
BEGIN:VEVENT
UID:70652-20200720@salfordpriors.gov.uk
DTSTAMP:20260423T104055Z
DTSTART;VALUE=DATE:20200720
DTEND;VALUE=DATE:20200721
SUMMARY:Council Meeting &#8211\\; 20th July 2020
DESCRIPTION:Full Council Meeting\nView details: https://salfordpriors.gov.uk/meetings/council-meeting-20th-july-2020/
URL:https://salfordpriors.gov.uk/meetings/council-meeting-20th-july-2020/
END:VEVENT
END:VCALENDAR
