BEGIN:VCALENDAR
VERSION:2.0
PRODID:-//Salford Priors Parish Council//Meeting Calendar//EN
CALSCALE:GREGORIAN
METHOD:PUBLISH
BEGIN:VEVENT
UID:70687-20221214@salfordpriors.gov.uk
DTSTAMP:20260422T085907Z
DTSTART;VALUE=DATE:20221214
DTEND;VALUE=DATE:20221215
SUMMARY:Council Meeting &#8211\\; 14th December 2022
DESCRIPTION:Full Council Meeting\nView details: https://salfordpriors.gov.uk/meetings/council-meeting-14th-december-2022/
URL:https://salfordpriors.gov.uk/meetings/council-meeting-14th-december-2022/
END:VEVENT
END:VCALENDAR
