BEGIN:VCALENDAR
VERSION:2.0
PRODID:-//Salford Priors Parish Council//Meeting Calendar//EN
CALSCALE:GREGORIAN
METHOD:PUBLISH
BEGIN:VEVENT
UID:70689-20230118@salfordpriors.gov.uk
DTSTAMP:20260421T083822Z
DTSTART;VALUE=DATE:20230118
DTEND;VALUE=DATE:20230119
SUMMARY:Council Meeting &#8211\\; 18th January 2023
DESCRIPTION:Full Council Meeting\nView details: https://salfordpriors.gov.uk/meetings/council-meeting-18th-january-2023/
URL:https://salfordpriors.gov.uk/meetings/council-meeting-18th-january-2023/
END:VEVENT
END:VCALENDAR
