BEGIN:VCALENDAR
VERSION:2.0
PRODID:-//Salford Priors Parish Council//Meeting Calendar//EN
CALSCALE:GREGORIAN
METHOD:PUBLISH
BEGIN:VEVENT
UID:70724-20200715@salfordpriors.gov.uk
DTSTAMP:20260423T085255Z
DTSTART;VALUE=DATE:20200715
DTEND;VALUE=DATE:20200716
SUMMARY:Council Meeting &#8211\\; 15th July 2020
DESCRIPTION:Full Council Meeting\nView details: https://salfordpriors.gov.uk/meetings/council-meeting-15th-july-2020/
URL:https://salfordpriors.gov.uk/meetings/council-meeting-15th-july-2020/
END:VEVENT
END:VCALENDAR
