BEGIN:VCALENDAR
VERSION:2.0
PRODID:-//Salford Priors Parish Council//Meeting Calendar//EN
CALSCALE:GREGORIAN
METHOD:PUBLISH
BEGIN:VEVENT
UID:70990-20240320@salfordpriors.gov.uk
DTSTAMP:20260422T085907Z
DTSTART;VALUE=DATE:20240320
DTEND;VALUE=DATE:20240321
SUMMARY:Council Meeting 20th March 2024
DESCRIPTION:Full Council Meeting\nView details: https://salfordpriors.gov.uk/meetings/council-meeting-20th-march-2024/
URL:https://salfordpriors.gov.uk/meetings/council-meeting-20th-march-2024/
END:VEVENT
END:VCALENDAR
