BEGIN:VCALENDAR
VERSION:2.0
PRODID:-//Salford Priors Parish Council//Meeting Calendar//EN
CALSCALE:GREGORIAN
METHOD:PUBLISH
BEGIN:VEVENT
UID:70997-20241113@salfordpriors.gov.uk
DTSTAMP:20260421T084043Z
DTSTART;VALUE=DATE:20241113
DTEND;VALUE=DATE:20241114
SUMMARY:Council Meeting 12th November 2024
DESCRIPTION:Full Council Meeting\nView details: https://salfordpriors.gov.uk/meetings/council-meeting-20th-november-2024/
URL:https://salfordpriors.gov.uk/meetings/council-meeting-20th-november-2024/
END:VEVENT
END:VCALENDAR
