BEGIN:VCALENDAR
VERSION:2.0
PRODID:-//Salford Priors Parish Council//Meeting Calendar//EN
CALSCALE:GREGORIAN
METHOD:PUBLISH
BEGIN:VEVENT
UID:72161-20250319@salfordpriors.gov.uk
DTSTAMP:20260421T083154Z
DTSTART;VALUE=DATE:20250319
DTEND;VALUE=DATE:20250320
SUMMARY:Parish Council Meeting 19.3.25
DESCRIPTION:Full Council Meeting\nView details: https://salfordpriors.gov.uk/meetings/parish-council-meeting/
URL:https://salfordpriors.gov.uk/meetings/parish-council-meeting/
END:VEVENT
END:VCALENDAR
