BEGIN:VCALENDAR
VERSION:2.0
PRODID:-//Salford Priors Parish Council//Meeting Calendar//EN
CALSCALE:GREGORIAN
METHOD:PUBLISH
BEGIN:VEVENT
UID:72211-20251119@salfordpriors.gov.uk
DTSTAMP:20260422T085931Z
DTSTART;VALUE=DATE:20251119
DTEND;VALUE=DATE:20251120
SUMMARY:Council Meeting 19.11.25
DESCRIPTION:Full Council Meeting\nView details: https://salfordpriors.gov.uk/meetings/council-meeting-19-11-25/
URL:https://salfordpriors.gov.uk/meetings/council-meeting-19-11-25/
END:VEVENT
END:VCALENDAR
