BEGIN:VCALENDAR
VERSION:2.0
PRODID:-//Salford Priors Parish Council//Meeting Calendar//EN
CALSCALE:GREGORIAN
METHOD:PUBLISH
BEGIN:VEVENT
UID:72239-20250210@salfordpriors.gov.uk
DTSTAMP:20260423T090258Z
DTSTART;VALUE=DATE:20250210
DTEND;VALUE=DATE:20250211
SUMMARY:Planning Committee Meeting 10.2.25
DESCRIPTION:Full Council Meeting\nView details: https://salfordpriors.gov.uk/meetings/planning-committee-meeting-10-2-25/
URL:https://salfordpriors.gov.uk/meetings/planning-committee-meeting-10-2-25/
END:VEVENT
END:VCALENDAR
